BEGIN:VCALENDAR
VERSION:2.0
PRODID:-//ExpoDeca | Feria de la Actividad Física y del Deporte de Canarias - ECPv6.15.14//NONSGML v1.0//EN
CALSCALE:GREGORIAN
METHOD:PUBLISH
X-WR-CALNAME:ExpoDeca | Feria de la Actividad Física y del Deporte de Canarias
X-ORIGINAL-URL:https://expodeca.es
X-WR-CALDESC:Eventos para ExpoDeca | Feria de la Actividad Física y del Deporte de Canarias
REFRESH-INTERVAL;VALUE=DURATION:PT1H
X-Robots-Tag:noindex
X-PUBLISHED-TTL:PT1H
BEGIN:VTIMEZONE
TZID:UTC
BEGIN:STANDARD
TZOFFSETFROM:+0000
TZOFFSETTO:+0000
TZNAME:UTC
DTSTART:20250101T000000
END:STANDARD
END:VTIMEZONE
BEGIN:VEVENT
DTSTART;TZID=UTC:20261224T170000
DTEND;TZID=UTC:20261225T180000
DTSTAMP:20260424T035235
CREATED:20251222T133109Z
LAST-MODIFIED:20251224T084709Z
UID:283262-1798131600-1798221600@expodeca.es
SUMMARY:Weekend Long Adventure
DESCRIPTION:Dear Mr. President\, There are too many states nowadays. Please\, eliminate three. P.S. I am not a crackpot. You don’t win friends with salad. I’m a Spalding Gray in a Rick Dees world. D’oh. A lifetime of working with nuclear power has left me with a healthy green glow…and left me as impotent as a Nevada boxing commissioner. No children have ever meddled with the Republican Party and lived to tell about it. \nCarrera popular abierta a participantes de todos los niveles\, desde corredores amateur hasta deportistas habituales. El recorrido\, completamente urbano\, está diseñado para ser rápido y accesible\, pasando por algunos de los puntos más emblemáticos de la ciudad. El evento contará con servicio de cronometraje\, avituallamientos líquidos y sólidos durante la prueba\, asistencia médica y animación a lo largo del recorrido. Todos los inscritos recibirán una camiseta oficial y habrá premios para los primeros clasificados de cada categoría.
URL:https://expodeca.es/event/weekend-long-adventure/
CATEGORIES:Family Fun
ATTACH;FMTTYPE=image/jpeg:https://expodeca.es/wp-content/uploads/2024/07/gimnasio-expodeca-2024.jpg
END:VEVENT
END:VCALENDAR